Package: ConsensusClusterPlus Version: 1.73.0 Command: /Library/Frameworks/R.framework/Resources/bin/R CMD build --keep-empty-dirs --no-resave-data ConsensusClusterPlus StartedAt: 2025-10-17 16:34:33 -0400 (Fri, 17 Oct 2025) EndedAt: 2025-10-17 16:34:48 -0400 (Fri, 17 Oct 2025) EllapsedTime: 14.9 seconds RetCode: 0 Status: OK PackageFile: ConsensusClusterPlus_1.73.0.tar.gz PackageFileSize: 382.3 KiB