Package: ConsensusClusterPlus Version: 1.73.0 Command: /Library/Frameworks/R.framework/Resources/bin/R CMD INSTALL ConsensusClusterPlus StartedAt: 2025-10-19 15:16:29 -0400 (Sun, 19 Oct 2025) EndedAt: 2025-10-19 15:16:45 -0400 (Sun, 19 Oct 2025) EllapsedTime: 16.1 seconds RetCode: 0 Status: OK