Package: ConsensusClusterPlus Version: 1.75.0 Command: /home/biocbuild/bbs-3.23-bioc/R/bin/R CMD INSTALL ConsensusClusterPlus StartedAt: 2025-11-14 15:13:52 -0500 (Fri, 14 Nov 2025) EndedAt: 2025-11-14 15:13:55 -0500 (Fri, 14 Nov 2025) EllapsedTime: 3.2 seconds RetCode: 0 Status: OK