Package: ConsensusClusterPlus Version: 1.73.0 Command: /home/biocbuild/bbs-3.22-bioc/R/bin/R CMD build --keep-empty-dirs --no-resave-data --md5 ConsensusClusterPlus StartedAt: 2025-07-14 16:45:45 -0400 (Mon, 14 Jul 2025) EndedAt: 2025-07-14 16:45:55 -0400 (Mon, 14 Jul 2025) EllapsedTime: 10.0 seconds RetCode: 0 Status: OK PackageFile: ConsensusClusterPlus_1.73.0.tar.gz PackageFileSize: 409 KiB