Package: ConsensusClusterPlus Version: 1.73.0 Command: /home/biocbuild/bbs-3.22-bioc/R/bin/R CMD INSTALL ConsensusClusterPlus StartedAt: 2025-07-14 15:12:10 -0400 (Mon, 14 Jul 2025) EndedAt: 2025-07-14 15:12:13 -0400 (Mon, 14 Jul 2025) EllapsedTime: 3.4 seconds RetCode: 0 Status: OK