Package: CoreGx Version: 2.13.0 Command: /home/biocbuild/bbs-3.22-bioc/R/bin/R CMD build --keep-empty-dirs --no-resave-data --md5 CoreGx StartedAt: 2025-10-02 16:58:38 -0400 (Thu, 02 Oct 2025) EndedAt: 2025-10-02 16:59:59 -0400 (Thu, 02 Oct 2025) EllapsedTime: 80.1 seconds RetCode: 0 Status: OK PackageFile: CoreGx_2.13.0.tar.gz PackageFileSize: 1.369 MiB