Package: CoreGx Version: 2.13.0 Command: /home/biocbuild/bbs-3.22-bioc/R/bin/R CMD INSTALL CoreGx StartedAt: 2025-10-02 15:23:58 -0400 (Thu, 02 Oct 2025) EndedAt: 2025-10-02 15:24:35 -0400 (Thu, 02 Oct 2025) EllapsedTime: 37.6 seconds RetCode: 0 Status: OK