Package: CoverageView Version: 1.49.0 Command: /Library/Frameworks/R.framework/Resources/bin/R CMD INSTALL CoverageView StartedAt: 2025-11-18 15:27:18 -0500 (Tue, 18 Nov 2025) EndedAt: 2025-11-18 15:27:31 -0500 (Tue, 18 Nov 2025) EllapsedTime: 12.9 seconds RetCode: 0 Status: OK