Package: CytoPipelineGUI Version: 1.7.2 Maintainer: Philippe Hauchamps MaintainerEmail: philippe.hauchamps at uclouvain.be git_url: https://git.bioconductor.org/packages/CytoPipelineGUI git_branch: devel git_last_commit: 3c4d44a git_last_commit_date: 2025-10-02 09:56:51 -0400 (Thu, 02 Oct 2025)