Package: CytoPipelineGUI Version: 1.7.2 Command: rm -rf CytoPipelineGUI.buildbin-libdir && mkdir CytoPipelineGUI.buildbin-libdir && /Users/biocbuild/BBS/utils/build-universal.sh CytoPipelineGUI_1.7.2.tar.gz /Library/Frameworks/R.framework/Resources/bin/R CytoPipelineGUI.buildbin-libdir StartedAt: 2025-10-03 01:52:59 -0400 (Fri, 03 Oct 2025) EndedAt: 2025-10-03 01:53:21 -0400 (Fri, 03 Oct 2025) EllapsedTime: 21.9 seconds RetCode: 0 Status: OK PackageFile: CytoPipelineGUI_1.7.2.tgz PackageFileSize: 1.606 MiB