Package: CytoPipelineGUI Version: 1.7.2 Command: /Library/Frameworks/R.framework/Resources/bin/R CMD INSTALL CytoPipelineGUI StartedAt: 2025-10-02 15:31:29 -0400 (Thu, 02 Oct 2025) EndedAt: 2025-10-02 15:31:48 -0400 (Thu, 02 Oct 2025) EllapsedTime: 19.5 seconds RetCode: 0 Status: OK