Package: CytoPipelineGUI Version: 1.9.0 Command: /home/biocbuild/bbs-3.23-bioc/R/bin/R CMD build --keep-empty-dirs --no-resave-data CytoPipelineGUI StartedAt: 2025-11-06 17:03:42 -0500 (Thu, 06 Nov 2025) EndedAt: 2025-11-06 17:04:25 -0500 (Thu, 06 Nov 2025) EllapsedTime: 43.0 seconds RetCode: 0 Status: OK PackageFile: CytoPipelineGUI_1.9.0.tar.gz PackageFileSize: 1.366 MiB