Package: CytoPipelineGUI Version: 1.7.0 Command: /home/biocbuild/bbs-3.22-bioc/R/bin/R CMD build --keep-empty-dirs --no-resave-data --md5 CytoPipelineGUI StartedAt: 2025-07-13 16:49:41 -0400 (Sun, 13 Jul 2025) EndedAt: 2025-07-13 16:50:25 -0400 (Sun, 13 Jul 2025) EllapsedTime: 44.0 seconds RetCode: 0 Status: OK PackageFile: CytoPipelineGUI_1.7.0.tar.gz PackageFileSize: 1.47 MiB