Package: CytoPipelineGUI Version: 1.7.0 Command: /home/biocbuild/bbs-3.22-bioc/R/bin/R CMD INSTALL CytoPipelineGUI StartedAt: 2025-07-13 15:33:07 -0400 (Sun, 13 Jul 2025) EndedAt: 2025-07-13 15:33:19 -0400 (Sun, 13 Jul 2025) EllapsedTime: 12.1 seconds RetCode: 0 Status: OK