Package: DRIMSeq Version: 1.39.0 Command: /Library/Frameworks/R.framework/Resources/bin/R CMD build --keep-empty-dirs --no-resave-data DRIMSeq StartedAt: 2025-11-25 17:04:24 -0500 (Tue, 25 Nov 2025) EndedAt: 2025-11-25 17:07:07 -0500 (Tue, 25 Nov 2025) EllapsedTime: 163.6 seconds RetCode: 0 Status: OK PackageFile: DRIMSeq_1.39.0.tar.gz PackageFileSize: 479.7 KiB