Package: DRIMSeq Version: 1.39.0 Command: /Library/Frameworks/R.framework/Resources/bin/R CMD INSTALL DRIMSeq StartedAt: 2025-11-25 15:34:32 -0500 (Tue, 25 Nov 2025) EndedAt: 2025-11-25 15:34:51 -0500 (Tue, 25 Nov 2025) EllapsedTime: 19.5 seconds RetCode: 0 Status: OK