Back to Build/check report for BioC 3.23:   simplified   long
ABC[D]EFGHIJKLMNOPQRSTUVWXYZ

This page was generated on 2025-11-07 11:32 -0500 (Fri, 07 Nov 2025).

HostnameOSArch (*)R versionInstalled pkgs
nebbiolo1Linux (Ubuntu 24.04.3 LTS)x86_64R Under development (unstable) (2025-10-20 r88955) -- "Unsuffered Consequences" 4818
Click on any hostname to see more info about the system (e.g. compilers)      (*) as reported by 'uname -p', except on Windows and Mac OS X

All results for package DSS


To the developers/maintainers of the DSS package:
- Allow up to 24 hours (and sometimes 48 hours) for your latest push to git@git.bioconductor.org:packages/DSS.git to reflect on this report. See Troubleshooting Build Report for more information.
- Use the following Renviron settings to reproduce errors and warnings.
- If 'R CMD check' started to fail recently on the Linux builder(s) over a missing dependency, add the missing dependency to 'Suggests:' in your DESCRIPTION file. See Renviron.bioc for more information.

raw results

Package 623/2323HostnameOS / ArchINSTALLBUILDCHECKBUILD BIN
DSS 2.59.0  (landing page)
Hao Wu , Hao Feng
Snapshot Date: 2025-11-06 13:40 -0500 (Thu, 06 Nov 2025)
git_url: https://git.bioconductor.org/packages/DSS
git_branch: devel
git_last_commit: 78fb7ed
git_last_commit_date: 2025-10-29 10:11:20 -0500 (Wed, 29 Oct 2025)
nebbiolo1Linux (Ubuntu 24.04.3 LTS) / x86_64  OK    OK    WARNINGS  UNNEEDED, same version is already published



Results for Bioconductor software packages that depend directly on package DSS

QUICK STATSOS / ArchINSTALLBUILDCHECKBUILD BIN
nebbiolo1Linux (Ubuntu 24.04.3 LTS) / x86_64
005
005
0014
Package 1/5HostnameOS / ArchINSTALLBUILDCHECKBUILD BIN
borealis 1.15.0  (landing page)
Garrett Jenkinson
git_last_commit: f928ff2
git_last_commit_date: 2025-10-29 11:16:27 -0500
nebbiolo1Linux (Ubuntu 24.04.3 LTS) / x86_64  OK    OK    OK  UNNEEDED, same version is already published
Package 2/5HostnameOS / ArchINSTALLBUILDCHECKBUILD BIN
DeMixT 1.27.0  (landing page)
Ruonan Li
git_last_commit: 438eef5
git_last_commit_date: 2025-10-29 10:50:59 -0500
nebbiolo1Linux (Ubuntu 24.04.3 LTS) / x86_64  OK    OK    WARNINGS  UNNEEDED, same version is already published
Package 3/5HostnameOS / ArchINSTALLBUILDCHECKBUILD BIN
kissDE 1.31.0  (landing page)
Aurélie Siberchicot
git_last_commit: ba36c2d
git_last_commit_date: 2025-10-29 10:43:14 -0500
nebbiolo1Linux (Ubuntu 24.04.3 LTS) / x86_64  OK    OK    OK  UNNEEDED, same version is already published
Package 4/5HostnameOS / ArchINSTALLBUILDCHECKBUILD BIN
metaseqR2 1.23.0  (landing page)
Panagiotis Moulos
git_last_commit: 25b9df1
git_last_commit_date: 2025-10-29 10:59:18 -0500
nebbiolo1Linux (Ubuntu 24.04.3 LTS) / x86_64  OK    OK    OK  UNNEEDED, same version is already published
Package 5/5HostnameOS / ArchINSTALLBUILDCHECKBUILD BIN
methylSig 1.23.0  (landing page)
Raymond G. Cavalcante
git_last_commit: cb92f7f
git_last_commit_date: 2025-10-29 10:58:51 -0500
nebbiolo1Linux (Ubuntu 24.04.3 LTS) / x86_64  OK    OK    OK  UNNEEDED, same version is already published