Package: DeepPINCS Version: 1.19.0 Command: /Library/Frameworks/R.framework/Resources/bin/R CMD INSTALL DeepPINCS StartedAt: 2025-11-20 15:06:28 -0500 (Thu, 20 Nov 2025) EndedAt: 2025-11-20 15:06:35 -0500 (Thu, 20 Nov 2025) EllapsedTime: 6.6 seconds RetCode: 0 Status: OK