Package: DeepTarget Version: 1.3.0 Command: /home/biocbuild/bbs-3.22-bioc/R/bin/R CMD build --keep-empty-dirs --no-resave-data --md5 DeepTarget StartedAt: 2025-10-14 17:13:54 -0400 (Tue, 14 Oct 2025) EndedAt: 2025-10-14 17:14:36 -0400 (Tue, 14 Oct 2025) EllapsedTime: 42.0 seconds RetCode: 0 Status: OK PackageFile: DeepTarget_1.3.0.tar.gz PackageFileSize: 2.751 MiB