Package: DelayedArray Version: 0.37.0 Command: /home/biocbuild/bbs-3.23-bioc/R/bin/R CMD build --keep-empty-dirs --no-resave-data DelayedArray StartedAt: 2025-11-05 17:16:46 -0500 (Wed, 05 Nov 2025) EndedAt: 2025-11-05 17:17:43 -0500 (Wed, 05 Nov 2025) EllapsedTime: 57.1 seconds RetCode: 0 Status: OK PackageFile: DelayedArray_0.37.0.tar.gz PackageFileSize: 794.5 KiB