Package: DelayedArray Version: 0.37.0 Command: /home/biocbuild/bbs-3.23-bioc/R/bin/R CMD INSTALL DelayedArray StartedAt: 2025-11-05 15:21:56 -0500 (Wed, 05 Nov 2025) EndedAt: 2025-11-05 15:22:25 -0500 (Wed, 05 Nov 2025) EllapsedTime: 28.7 seconds RetCode: 0 Status: OK