Package: DelayedRandomArray Version: 1.17.0 Command: rm -rf DelayedRandomArray.buildbin-libdir && mkdir DelayedRandomArray.buildbin-libdir && /Users/biocbuild/BBS/utils/build-universal.sh DelayedRandomArray_1.17.0.tar.gz /Library/Frameworks/R.framework/Resources/bin/R DelayedRandomArray.buildbin-libdir StartedAt: 2025-07-18 00:47:59 -0400 (Fri, 18 Jul 2025) EndedAt: 2025-07-18 00:48:43 -0400 (Fri, 18 Jul 2025) EllapsedTime: 44.0 seconds RetCode: 0 Status: OK PackageFile: DelayedRandomArray_1.17.0.tgz PackageFileSize: 673.9 KiB