Package: DelayedRandomArray Version: 1.17.0 Command: /Library/Frameworks/R.framework/Resources/bin/R CMD build --keep-empty-dirs --no-resave-data DelayedRandomArray StartedAt: 2025-07-17 16:34:53 -0400 (Thu, 17 Jul 2025) EndedAt: 2025-07-17 16:35:41 -0400 (Thu, 17 Jul 2025) EllapsedTime: 48.0 seconds RetCode: 0 Status: OK PackageFile: DelayedRandomArray_1.17.0.tar.gz PackageFileSize: 318.5 KiB