Package: DelayedRandomArray Version: 1.17.0 Command: /Library/Frameworks/R.framework/Resources/bin/R CMD INSTALL DelayedRandomArray StartedAt: 2025-07-17 15:16:54 -0400 (Thu, 17 Jul 2025) EndedAt: 2025-07-17 15:17:37 -0400 (Thu, 17 Jul 2025) EllapsedTime: 42.9 seconds RetCode: 0 Status: OK