Package: DelayedRandomArray Version: 1.19.0 Command: /home/biocbuild/bbs-3.23-bioc/R/bin/R CMD build --keep-empty-dirs --no-resave-data DelayedRandomArray StartedAt: 2025-10-31 17:25:49 -0400 (Fri, 31 Oct 2025) EndedAt: 2025-10-31 17:26:29 -0400 (Fri, 31 Oct 2025) EllapsedTime: 40.0 seconds RetCode: 0 Status: OK PackageFile: DelayedRandomArray_1.19.0.tar.gz PackageFileSize: 318.8 KiB