Package: DelayedRandomArray Version: 1.19.0 Command: /home/biocbuild/bbs-3.23-bioc/R/bin/R CMD INSTALL DelayedRandomArray StartedAt: 2025-10-31 15:24:41 -0400 (Fri, 31 Oct 2025) EndedAt: 2025-10-31 15:25:11 -0400 (Fri, 31 Oct 2025) EllapsedTime: 29.9 seconds RetCode: 0 Status: OK