Package: DelayedTensor Version: 1.17.0 Command: /home/biocbuild/bbs-3.23-bioc/R/bin/R CMD build --keep-empty-dirs --no-resave-data DelayedTensor StartedAt: 2025-11-06 17:10:01 -0500 (Thu, 06 Nov 2025) EndedAt: 2025-11-06 17:13:44 -0500 (Thu, 06 Nov 2025) EllapsedTime: 222.2 seconds RetCode: 0 Status: OK PackageFile: DelayedTensor_1.17.0.tar.gz PackageFileSize: 4.129 MiB