Package: DelayedTensor Version: 1.15.0 Command: /home/biocbuild/bbs-3.22-bioc/R/bin/R CMD build --keep-empty-dirs --no-resave-data --md5 DelayedTensor StartedAt: 2025-07-15 16:53:55 -0400 (Tue, 15 Jul 2025) EndedAt: 2025-07-15 16:55:59 -0400 (Tue, 15 Jul 2025) EllapsedTime: 124.1 seconds RetCode: 0 Status: OK PackageFile: DelayedTensor_1.15.0.tar.gz PackageFileSize: 4.13 MiB