Package: DelayedTensor Version: 1.15.0 Command: /home/biocbuild/bbs-3.22-bioc/R/bin/R CMD INSTALL DelayedTensor StartedAt: 2025-07-15 15:51:59 -0400 (Tue, 15 Jul 2025) EndedAt: 2025-07-15 15:52:28 -0400 (Tue, 15 Jul 2025) EllapsedTime: 28.7 seconds RetCode: 0 Status: OK