Package: DiffLogo Version: 2.33.0 Command: /home/biocbuild/bbs-3.22-bioc/R/bin/R CMD INSTALL DiffLogo StartedAt: 2025-10-01 15:05:34 -0400 (Wed, 01 Oct 2025) EndedAt: 2025-10-01 15:05:52 -0400 (Wed, 01 Oct 2025) EllapsedTime: 17.2 seconds RetCode: 0 Status: OK