Package: DriverNet Version: 1.49.0 Command: /home/biocbuild/bbs-3.22-bioc/R/bin/R CMD INSTALL DriverNet StartedAt: 2025-10-13 15:06:49 -0400 (Mon, 13 Oct 2025) EndedAt: 2025-10-13 15:07:08 -0400 (Mon, 13 Oct 2025) EllapsedTime: 18.7 seconds RetCode: 0 Status: OK