Package: DropletUtils Version: 1.29.7 Command: /home/biocbuild/bbs-3.22-bioc/R/bin/R CMD INSTALL DropletUtils StartedAt: 2025-10-10 15:43:36 -0400 (Fri, 10 Oct 2025) EndedAt: 2025-10-10 15:45:05 -0400 (Fri, 10 Oct 2025) EllapsedTime: 88.8 seconds RetCode: 0 Status: OK