Package: ExploreModelMatrix Version: 1.23.0 Command: /Library/Frameworks/R.framework/Resources/bin/R CMD INSTALL ExploreModelMatrix StartedAt: 2025-11-25 15:07:25 -0500 (Tue, 25 Nov 2025) EndedAt: 2025-11-25 15:07:29 -0500 (Tue, 25 Nov 2025) EllapsedTime: 4.0 seconds RetCode: 0 Status: OK