Package: FuseSOM Version: 1.11.0 Command: /home/biocbuild/bbs-3.22-bioc/R/bin/R CMD INSTALL FuseSOM StartedAt: 2025-10-10 15:29:42 -0400 (Fri, 10 Oct 2025) EndedAt: 2025-10-10 15:30:08 -0400 (Fri, 10 Oct 2025) EllapsedTime: 25.8 seconds RetCode: 0 Status: OK