Back to Build/check report for BioC 3.23:   simplified   long
ABCDEF[G]HIJKLMNOPQRSTUVWXYZ

This page was generated on 2025-11-01 11:32 -0400 (Sat, 01 Nov 2025).

HostnameOSArch (*)R versionInstalled pkgs
nebbiolo1Linux (Ubuntu 24.04.3 LTS)x86_64R Under development (unstable) (2025-10-20 r88955) -- "Unsuffered Consequences" 4774
Click on any hostname to see more info about the system (e.g. compilers)      (*) as reported by 'uname -p', except on Windows and Mac OS X

All results for package GEOquery


To the developers/maintainers of the GEOquery package:
- Allow up to 24 hours (and sometimes 48 hours) for your latest push to git@git.bioconductor.org:packages/GEOquery.git to reflect on this report. See Troubleshooting Build Report for more information.
- Use the following Renviron settings to reproduce errors and warnings.
- If 'R CMD check' started to fail recently on the Linux builder(s) over a missing dependency, add the missing dependency to 'Suggests:' in your DESCRIPTION file. See Renviron.bioc for more information.

raw results

Package 853/2321HostnameOS / ArchINSTALLBUILDCHECKBUILD BIN
GEOquery 2.79.0  (landing page)
Sean Davis
Snapshot Date: 2025-10-31 13:40 -0400 (Fri, 31 Oct 2025)
git_url: https://git.bioconductor.org/packages/GEOquery
git_branch: devel
git_last_commit: 05cec56
git_last_commit_date: 2025-10-29 09:57:26 -0400 (Wed, 29 Oct 2025)
nebbiolo1Linux (Ubuntu 24.04.3 LTS) / x86_64  OK    OK    WARNINGS  YES



Results for Bioconductor software packages that depend directly on package GEOquery

QUICK STATSOS / ArchINSTALLBUILDCHECKBUILD BIN
nebbiolo1Linux (Ubuntu 24.04.3 LTS) / x86_64
0012
0111
0218
Package 1/12HostnameOS / ArchINSTALLBUILDCHECKBUILD BIN
bigmelon 1.37.0  (landing page)
Leonard C. Schalkwyk
git_last_commit: 142a0e8
git_last_commit_date: 2025-10-29 10:34:27 -0400
nebbiolo1Linux (Ubuntu 24.04.3 LTS) / x86_64  OK    OK    ERROR  
Package 2/12HostnameOS / ArchINSTALLBUILDCHECKBUILD BIN
ChIPXpress 1.55.0  (landing page)
George Wu
git_last_commit: 7be5116
git_last_commit_date: 2025-10-29 10:11:43 -0400
nebbiolo1Linux (Ubuntu 24.04.3 LTS) / x86_64  OK    OK    OK  NO, package depends on 'frma' which is not available
Package 3/12HostnameOS / ArchINSTALLBUILDCHECKBUILD BIN
DExMA 1.19.0  (landing page)
Juan Antonio Villatoro-GarcĂ­a
git_last_commit: f2e6f45
git_last_commit_date: 2025-10-29 11:09:00 -0400
nebbiolo1Linux (Ubuntu 24.04.3 LTS) / x86_64  OK    OK    OK  YES
Package 4/12HostnameOS / ArchINSTALLBUILDCHECKBUILD BIN
DrugVsDisease 2.53.0  (landing page)
j. Saez-Rodriguez
git_last_commit: 6483099
git_last_commit_date: 2025-10-29 10:13:26 -0400
nebbiolo1Linux (Ubuntu 24.04.3 LTS) / x86_64  OK    OK    OK  YES
Package 5/12HostnameOS / ArchINSTALLBUILDCHECKBUILD BIN
EGAD 1.39.0  (landing page)
Sara Ballouz
git_last_commit: 7ee1d10
git_last_commit_date: 2025-10-29 10:32:16 -0400
nebbiolo1Linux (Ubuntu 24.04.3 LTS) / x86_64  OK    OK    WARNINGS  YES
Package 6/12HostnameOS / ArchINSTALLBUILDCHECKBUILD BIN
GEOexplorer 1.17.0  (landing page)
Guy Hunt
git_last_commit: d50a784
git_last_commit_date: 2025-10-29 11:11:17 -0400
nebbiolo1Linux (Ubuntu 24.04.3 LTS) / x86_64  OK    OK    ERROR  
Package 7/12HostnameOS / ArchINSTALLBUILDCHECKBUILD BIN
minfi 1.57.0  (landing page)
Kasper Daniel Hansen
git_last_commit: 36249fb
git_last_commit_date: 2025-10-29 10:09:18 -0400
nebbiolo1Linux (Ubuntu 24.04.3 LTS) / x86_64  OK    ERROR  skipped
Package 8/12HostnameOS / ArchINSTALLBUILDCHECKBUILD BIN
Moonlight2R 1.9.0  (landing page)
Matteo Tiberti
git_last_commit: b5e3244
git_last_commit_date: 2025-10-29 11:25:19 -0400
nebbiolo1Linux (Ubuntu 24.04.3 LTS) / x86_64  OK    OK    OK  NO, package depends on 'rtracklayer' which is not available
Package 9/12HostnameOS / ArchINSTALLBUILDCHECKBUILD BIN
MoonlightR 1.37.0  (landing page)
Matteo Tiberti
git_last_commit: 9303ed6
git_last_commit_date: 2025-10-29 10:35:02 -0400
nebbiolo1Linux (Ubuntu 24.04.3 LTS) / x86_64  OK    OK    OK  YES
Package 10/12HostnameOS / ArchINSTALLBUILDCHECKBUILD BIN
phantasus 1.31.0  (landing page)
Alexey Sergushichev
git_last_commit: 30cb2d9
git_last_commit_date: 2025-10-29 10:44:01 -0400
nebbiolo1Linux (Ubuntu 24.04.3 LTS) / x86_64  OK    OK    OK  YES
Package 11/12HostnameOS / ArchINSTALLBUILDCHECKBUILD BIN
recount 1.37.0  (landing page)
Leonardo Collado-Torres
git_last_commit: 0f75cbd
git_last_commit_date: 2025-10-29 10:33:35 -0400
nebbiolo1Linux (Ubuntu 24.04.3 LTS) / x86_64  OK    OK    OK  NO, package depends on 'derfinder' which is not available
Package 12/12HostnameOS / ArchINSTALLBUILDCHECKBUILD BIN
SCAN.UPC 2.53.0  (landing page)
Stephen R. Piccolo
git_last_commit: 89643cf
git_last_commit_date: 2025-10-29 10:12:17 -0400
nebbiolo1Linux (Ubuntu 24.04.3 LTS) / x86_64  OK    OK    OK  YES