Package: GEOquery Version: 2.77.6 Command: /home/biocbuild/bbs-3.22-bioc/R/bin/R CMD INSTALL GEOquery StartedAt: 2025-10-20 15:31:57 -0400 (Mon, 20 Oct 2025) EndedAt: 2025-10-20 15:32:22 -0400 (Mon, 20 Oct 2025) EllapsedTime: 25.0 seconds RetCode: 0 Status: OK