Package: GEOsubmission Version: 1.63.0 Command: /home/biocbuild/bbs-3.23-bioc/R/bin/R CMD INSTALL GEOsubmission StartedAt: 2025-11-14 15:13:35 -0500 (Fri, 14 Nov 2025) EndedAt: 2025-11-14 15:13:40 -0500 (Fri, 14 Nov 2025) EllapsedTime: 4.6 seconds RetCode: 0 Status: OK