Package: GNET2 Version: 1.27.0 Command: /home/biocbuild/bbs-3.23-bioc/R/bin/R CMD build --keep-empty-dirs --no-resave-data GNET2 StartedAt: 2025-11-11 17:56:01 -0500 (Tue, 11 Nov 2025) EndedAt: 2025-11-11 17:56:50 -0500 (Tue, 11 Nov 2025) EllapsedTime: 49.0 seconds RetCode: 0 Status: OK PackageFile: GNET2_1.27.0.tar.gz PackageFileSize: 740.2 KiB