Package: GNET2 Version: 1.27.0 Command: /home/biocbuild/bbs-3.23-bioc/R/bin/R CMD INSTALL GNET2 StartedAt: 2025-11-11 15:22:23 -0500 (Tue, 11 Nov 2025) EndedAt: 2025-11-11 15:22:56 -0500 (Tue, 11 Nov 2025) EllapsedTime: 33.3 seconds RetCode: 0 Status: OK