Package: GNET2 Version: 1.25.0 Command: /home/biocbuild/bbs-3.22-bioc/R/bin/R CMD build --keep-empty-dirs --no-resave-data --md5 GNET2 StartedAt: 2025-07-23 17:44:43 -0400 (Wed, 23 Jul 2025) EndedAt: 2025-07-23 17:45:32 -0400 (Wed, 23 Jul 2025) EllapsedTime: 49.0 seconds RetCode: 0 Status: OK PackageFile: GNET2_1.25.0.tar.gz PackageFileSize: 735.1 KiB