Package: GNET2 Version: 1.25.0 Command: /home/biocbuild/bbs-3.22-bioc/R/bin/R CMD INSTALL GNET2 StartedAt: 2025-07-22 18:09:56 -0400 (Tue, 22 Jul 2025) EndedAt: 2025-07-22 18:10:29 -0400 (Tue, 22 Jul 2025) EllapsedTime: 32.2 seconds RetCode: 0 Status: OK