Package: GenomicFeatures Version: 1.61.6 Command: /home/biocbuild/bbs-3.22-bioc/R/bin/R CMD build --keep-empty-dirs --no-resave-data --md5 GenomicFeatures StartedAt: 2025-10-21 17:48:56 -0400 (Tue, 21 Oct 2025) EndedAt: 2025-10-21 17:50:57 -0400 (Tue, 21 Oct 2025) EllapsedTime: 121.1 seconds RetCode: 0 Status: OK PackageFile: GenomicFeatures_1.61.6.tar.gz PackageFileSize: 561.1 KiB