Package: GenomicFiles Version: 1.45.2 Command: /home/biocbuild/bbs-3.22-bioc/R/bin/R CMD INSTALL GenomicFiles StartedAt: 2025-10-15 15:58:23 -0400 (Wed, 15 Oct 2025) EndedAt: 2025-10-15 15:59:18 -0400 (Wed, 15 Oct 2025) EllapsedTime: 55.0 seconds RetCode: 0 Status: OK