Package: GeoDiff Version: 1.17.0 Command: rm -rf GeoDiff.buildbin-libdir && mkdir GeoDiff.buildbin-libdir && /Users/biocbuild/BBS/utils/build-universal.sh GeoDiff_1.17.0.tar.gz /Library/Frameworks/R.framework/Resources/bin/R GeoDiff.buildbin-libdir StartedAt: 2025-11-21 23:34:06 -0500 (Fri, 21 Nov 2025) EndedAt: 2025-11-21 23:34:37 -0500 (Fri, 21 Nov 2025) EllapsedTime: 30.8 seconds RetCode: 0 Status: OK PackageFile: GeoDiff_1.17.0.tgz PackageFileSize: 4.801 MiB