Package: GeoDiff Version: 1.17.0 Command: /Library/Frameworks/R.framework/Resources/bin/R CMD build --keep-empty-dirs --no-resave-data GeoDiff StartedAt: 2025-11-21 16:27:20 -0500 (Fri, 21 Nov 2025) EndedAt: 2025-11-21 16:28:49 -0500 (Fri, 21 Nov 2025) EllapsedTime: 88.8 seconds RetCode: 0 Status: OK PackageFile: GeoDiff_1.17.0.tar.gz PackageFileSize: 4.582 MiB