Package: GeoDiff Version: 1.17.0 Command: /Library/Frameworks/R.framework/Resources/bin/R CMD INSTALL GeoDiff StartedAt: 2025-11-21 15:08:25 -0500 (Fri, 21 Nov 2025) EndedAt: 2025-11-21 15:08:49 -0500 (Fri, 21 Nov 2025) EllapsedTime: 24.6 seconds RetCode: 0 Status: OK