Package: GraphAT Version: 1.83.0 Command: /Library/Frameworks/R.framework/Resources/bin/R CMD INSTALL GraphAT StartedAt: 2025-11-19 15:08:41 -0500 (Wed, 19 Nov 2025) EndedAt: 2025-11-19 15:08:45 -0500 (Wed, 19 Nov 2025) EllapsedTime: 4.2 seconds RetCode: 0 Status: OK