Package: HiCDCPlus Version: 1.17.0 Command: /home/biocbuild/bbs-3.22-bioc/R/bin/R CMD build --keep-empty-dirs --no-resave-data --md5 HiCDCPlus StartedAt: 2025-10-07 18:07:24 -0400 (Tue, 07 Oct 2025) EndedAt: 2025-10-07 18:09:09 -0400 (Tue, 07 Oct 2025) EllapsedTime: 105.1 seconds RetCode: 0 Status: OK PackageFile: HiCDCPlus_1.17.0.tar.gz PackageFileSize: 1.191 MiB