Package: HiCDCPlus Version: 1.17.0 Command: /home/biocbuild/bbs-3.22-bioc/R/bin/R CMD INSTALL HiCDCPlus StartedAt: 2025-10-07 15:52:03 -0400 (Tue, 07 Oct 2025) EndedAt: 2025-10-07 15:52:46 -0400 (Tue, 07 Oct 2025) EllapsedTime: 43.2 seconds RetCode: 0 Status: OK