Package: HiLDA Version: 1.23.0 Command: /home/biocbuild/bbs-3.22-bioc/R/bin/R CMD build --keep-empty-dirs --no-resave-data --md5 HiLDA StartedAt: 2025-10-22 18:09:38 -0400 (Wed, 22 Oct 2025) EndedAt: 2025-10-22 18:12:51 -0400 (Wed, 22 Oct 2025) EllapsedTime: 193.2 seconds RetCode: 0 Status: OK PackageFile: HiLDA_1.23.0.tar.gz PackageFileSize: 2.458 MiB